BEGIN:VCALENDAR
VERSION:2.0
PRODID:-//A-Reich.de - ECPv6.15.20//NONSGML v1.0//EN
CALSCALE:GREGORIAN
METHOD:PUBLISH
X-ORIGINAL-URL:https://www.a-reich.de
X-WR-CALDESC:Veranstaltungen für A-Reich.de
REFRESH-INTERVAL;VALUE=DURATION:PT1H
X-Robots-Tag:noindex
X-PUBLISHED-TTL:PT1H
BEGIN:VTIMEZONE
TZID:UTC
BEGIN:STANDARD
TZOFFSETFROM:+0000
TZOFFSETTO:+0000
TZNAME:UTC
DTSTART:20250101T000000
END:STANDARD
END:VTIMEZONE
BEGIN:VEVENT
DTSTART;TZID=UTC:20261010T080000
DTEND;TZID=UTC:20261010T153000
DTSTAMP:20260422T005534
CREATED:20260414T121308Z
LAST-MODIFIED:20260414T121308Z
UID:884-1791619200-1791646200@www.a-reich.de
SUMMARY:Modul 5 - Sicherheit Ladung & Fahrgast
DESCRIPTION:
URL:https://www.a-reich.de/index.php/kursveranstaltung/modul-5-sicherheit-ladung-fahrgast/
LOCATION:A. Reich GmbH Jüterbog\, Grünaer Weg 10\, Jüterbog\, 14913
CATEGORIES:Modul 5 - Sicherheit Ladung & Fahrgast
ATTACH;FMTTYPE=image/png:https://www.a-reich.de/wp-content/uploads/2023/03/modul5.png
END:VEVENT
END:VCALENDAR