BEGIN:VCALENDAR
VERSION:2.0
PRODID:-//A-Reich.de - ECPv6.15.20//NONSGML v1.0//EN
CALSCALE:GREGORIAN
METHOD:PUBLISH
X-WR-CALNAME:A-Reich.de
X-ORIGINAL-URL:https://www.a-reich.de
X-WR-CALDESC:Veranstaltungen für A-Reich.de
REFRESH-INTERVAL;VALUE=DURATION:PT1H
X-Robots-Tag:noindex
X-PUBLISHED-TTL:PT1H
BEGIN:VTIMEZONE
TZID:UTC
BEGIN:STANDARD
TZOFFSETFROM:+0000
TZOFFSETTO:+0000
TZNAME:UTC
DTSTART:20250101T000000
END:STANDARD
END:VTIMEZONE
BEGIN:VEVENT
DTSTART;TZID=UTC:20260425T080000
DTEND;TZID=UTC:20260425T160000
DTSTAMP:20260421T081538
CREATED:20251113T093547Z
LAST-MODIFIED:20251113T093547Z
UID:827-1777104000-1777132800@www.a-reich.de
SUMMARY:Modul 1 -Eco-Training & Assistenzsysteme
DESCRIPTION:
URL:https://www.a-reich.de/index.php/kursveranstaltung/modul-1-eco-training-assistenzsysteme-4/
LOCATION:A. Reich GmbH Jüterbog\, Grünaer Weg 10\, Jüterbog\, 14913
CATEGORIES:Modul 1 - Eco-Training
ATTACH;FMTTYPE=image/png:https://www.a-reich.de/wp-content/uploads/2023/03/modul1.png
END:VEVENT
BEGIN:VEVENT
DTSTART;TZID=UTC:20260509T080000
DTEND;TZID=UTC:20260509T160000
DTSTAMP:20260421T081538
CREATED:20251113T093609Z
LAST-MODIFIED:20251113T093609Z
UID:829-1778313600-1778342400@www.a-reich.de
SUMMARY:Modul 2 - Sozialvorschriften & Fahrtenschreiber
DESCRIPTION:
URL:https://www.a-reich.de/index.php/kursveranstaltung/modul-2-sozialvorschriften-fahrtenschreiber-5/
LOCATION:A. Reich GmbH Jüterbog\, Grünaer Weg 10\, Jüterbog\, 14913
CATEGORIES:Modul 2 - Sozialvorschriften
ATTACH;FMTTYPE=image/png:https://www.a-reich.de/wp-content/uploads/2023/03/modul2.png
END:VEVENT
BEGIN:VEVENT
DTSTART;TZID=UTC:20260523T080000
DTEND;TZID=UTC:20260523T160000
DTSTAMP:20260421T081538
CREATED:20251113T093630Z
LAST-MODIFIED:20251113T093630Z
UID:831-1779523200-1779552000@www.a-reich.de
SUMMARY:Modul 3 - Gefahrenwahrnehmung
DESCRIPTION:
URL:https://www.a-reich.de/index.php/kursveranstaltung/modul-3-gefahrenwahrnehmung-5/
LOCATION:A. Reich GmbH Jüterbog\, Grünaer Weg 10\, Jüterbog\, 14913
CATEGORIES:Modul 3 - Gefahrenwahrnehmung
ATTACH;FMTTYPE=image/png:https://www.a-reich.de/wp-content/uploads/2023/03/modul3.png
END:VEVENT
BEGIN:VEVENT
DTSTART;TZID=UTC:20260530T080000
DTEND;TZID=UTC:20260530T160000
DTSTAMP:20260421T081538
CREATED:20251113T093651Z
LAST-MODIFIED:20251113T093651Z
UID:833-1780128000-1780156800@www.a-reich.de
SUMMARY:Modul 4 - Schadensprävention
DESCRIPTION:
URL:https://www.a-reich.de/index.php/kursveranstaltung/modul-4-schadenspraevention-5/
LOCATION:A. Reich GmbH Jüterbog\, Grünaer Weg 10\, Jüterbog\, 14913
CATEGORIES:Modul 4 - Schadensprävention
ATTACH;FMTTYPE=image/png:https://www.a-reich.de/wp-content/uploads/2023/03/modul4.png
END:VEVENT
BEGIN:VEVENT
DTSTART;TZID=UTC:20260905T080000
DTEND;TZID=UTC:20260905T153000
DTSTAMP:20260421T081538
CREATED:20260414T121037Z
LAST-MODIFIED:20260414T121037Z
UID:885-1788595200-1788622200@www.a-reich.de
SUMMARY:Modul 1 -Eco-Training & Assistenzsysteme
DESCRIPTION:
URL:https://www.a-reich.de/index.php/kursveranstaltung/modul-1-eco-training-assistenzsysteme/
LOCATION:A. Reich GmbH Jüterbog\, Grünaer Weg 10\, Jüterbog\, 14913
CATEGORIES:Modul 1 - Eco-Training
ATTACH;FMTTYPE=image/png:https://www.a-reich.de/wp-content/uploads/2023/03/modul1.png
END:VEVENT
BEGIN:VEVENT
DTSTART;TZID=UTC:20260912T080000
DTEND;TZID=UTC:20260912T153000
DTSTAMP:20260421T081538
CREATED:20260414T121125Z
LAST-MODIFIED:20260414T121125Z
UID:887-1789200000-1789227000@www.a-reich.de
SUMMARY:Modul 2 - Sozialvorschriften & Fahrtenschreiber
DESCRIPTION:
URL:https://www.a-reich.de/index.php/kursveranstaltung/modul-2-sozialvorschriften-fahrtenschreiber/
LOCATION:A. Reich GmbH Jüterbog\, Grünaer Weg 10\, Jüterbog\, 14913
CATEGORIES:Modul 2 - Sozialvorschriften
ATTACH;FMTTYPE=image/png:https://www.a-reich.de/wp-content/uploads/2023/03/modul2.png
END:VEVENT
BEGIN:VEVENT
DTSTART;TZID=UTC:20260919T080000
DTEND;TZID=UTC:20260919T153000
DTSTAMP:20260421T081538
CREATED:20260414T121203Z
LAST-MODIFIED:20260414T121203Z
UID:889-1789804800-1789831800@www.a-reich.de
SUMMARY:Modul 3 - Gefahrenwahrnehmung
DESCRIPTION:
URL:https://www.a-reich.de/index.php/kursveranstaltung/modul-3-gefahrenwahrnehmung/
LOCATION:A. Reich GmbH Jüterbog\, Grünaer Weg 10\, Jüterbog\, 14913
CATEGORIES:Modul 3 - Gefahrenwahrnehmung
ATTACH;FMTTYPE=image/png:https://www.a-reich.de/wp-content/uploads/2023/03/modul3.png
END:VEVENT
BEGIN:VEVENT
DTSTART;TZID=UTC:20260926T080000
DTEND;TZID=UTC:20260926T153000
DTSTAMP:20260421T081538
CREATED:20260414T121242Z
LAST-MODIFIED:20260414T121242Z
UID:891-1790409600-1790436600@www.a-reich.de
SUMMARY:Modul 4 - Schadensprävention
DESCRIPTION:
URL:https://www.a-reich.de/index.php/kursveranstaltung/modul-4-schadenspraevention/
LOCATION:A. Reich GmbH Jüterbog\, Grünaer Weg 10\, Jüterbog\, 14913
CATEGORIES:Modul 4 - Schadensprävention
ATTACH;FMTTYPE=image/png:https://www.a-reich.de/wp-content/uploads/2023/03/modul4.png
END:VEVENT
BEGIN:VEVENT
DTSTART;TZID=UTC:20261010T080000
DTEND;TZID=UTC:20261010T153000
DTSTAMP:20260421T081538
CREATED:20260414T121308Z
LAST-MODIFIED:20260414T121308Z
UID:884-1791619200-1791646200@www.a-reich.de
SUMMARY:Modul 5 - Sicherheit Ladung & Fahrgast
DESCRIPTION:
URL:https://www.a-reich.de/index.php/kursveranstaltung/modul-5-sicherheit-ladung-fahrgast/
LOCATION:A. Reich GmbH Jüterbog\, Grünaer Weg 10\, Jüterbog\, 14913
CATEGORIES:Modul 5 - Sicherheit Ladung & Fahrgast
ATTACH;FMTTYPE=image/png:https://www.a-reich.de/wp-content/uploads/2023/03/modul5.png
END:VEVENT
BEGIN:VEVENT
DTSTART;TZID=UTC:20261107T080000
DTEND;TZID=UTC:20261107T153000
DTSTAMP:20260421T081538
CREATED:20260414T121333Z
LAST-MODIFIED:20260414T121333Z
UID:894-1794038400-1794065400@www.a-reich.de
SUMMARY:Modul 1 -Eco-Training & Assistenzsysteme
DESCRIPTION:
URL:https://www.a-reich.de/index.php/kursveranstaltung/modul-1-eco-training-assistenzsysteme-2/
LOCATION:A. Reich GmbH Jüterbog\, Grünaer Weg 10\, Jüterbog\, 14913
CATEGORIES:Modul 1 - Eco-Training
ATTACH;FMTTYPE=image/png:https://www.a-reich.de/wp-content/uploads/2023/03/modul1.png
END:VEVENT
BEGIN:VEVENT
DTSTART;TZID=UTC:20261114T080000
DTEND;TZID=UTC:20261114T153000
DTSTAMP:20260421T081538
CREATED:20260414T121358Z
LAST-MODIFIED:20260414T121358Z
UID:896-1794643200-1794670200@www.a-reich.de
SUMMARY:Modul 2 - Sozialvorschriften & Fahrtenschreiber
DESCRIPTION:
URL:https://www.a-reich.de/index.php/kursveranstaltung/modul-2-sozialvorschriften-fahrtenschreiber-2/
LOCATION:A. Reich GmbH Jüterbog\, Grünaer Weg 10\, Jüterbog\, 14913
CATEGORIES:Modul 2 - Sozialvorschriften
ATTACH;FMTTYPE=image/png:https://www.a-reich.de/wp-content/uploads/2023/03/modul2.png
END:VEVENT
BEGIN:VEVENT
DTSTART;TZID=UTC:20261116T080000
DTEND;TZID=UTC:20261116T153000
DTSTAMP:20260421T081538
CREATED:20260414T121650Z
LAST-MODIFIED:20260414T121650Z
UID:904-1794816000-1794843000@www.a-reich.de
SUMMARY:Modul 1 -Eco-Training & Assistenzsysteme
DESCRIPTION:
URL:https://www.a-reich.de/index.php/kursveranstaltung/modul-1-eco-training-assistenzsysteme-3/
LOCATION:A. Reich GmbH Jüterbog\, Grünaer Weg 10\, Jüterbog\, 14913
CATEGORIES:Modul 1 - Eco-Training
ATTACH;FMTTYPE=image/png:https://www.a-reich.de/wp-content/uploads/2023/03/modul1.png
END:VEVENT
BEGIN:VEVENT
DTSTART;TZID=UTC:20261117T080000
DTEND;TZID=UTC:20261117T153000
DTSTAMP:20260421T081538
CREATED:20260414T121710Z
LAST-MODIFIED:20260414T121710Z
UID:906-1794902400-1794929400@www.a-reich.de
SUMMARY:Modul 2 - Sozialvorschriften & Fahrtenschreiber
DESCRIPTION:
URL:https://www.a-reich.de/index.php/kursveranstaltung/modul-2-sozialvorschriften-fahrtenschreiber-3/
LOCATION:A. Reich GmbH Jüterbog\, Grünaer Weg 10\, Jüterbog\, 14913
CATEGORIES:Modul 2 - Sozialvorschriften
ATTACH;FMTTYPE=image/png:https://www.a-reich.de/wp-content/uploads/2023/03/modul2.png
END:VEVENT
BEGIN:VEVENT
DTSTART;TZID=UTC:20261118T080000
DTEND;TZID=UTC:20261118T153000
DTSTAMP:20260421T081538
CREATED:20260414T121728Z
LAST-MODIFIED:20260414T121728Z
UID:908-1794988800-1795015800@www.a-reich.de
SUMMARY:Modul 3 - Gefahrenwahrnehmung
DESCRIPTION:
URL:https://www.a-reich.de/index.php/kursveranstaltung/modul-3-gefahrenwahrnehmung-3/
LOCATION:A. Reich GmbH Jüterbog\, Grünaer Weg 10\, Jüterbog\, 14913
CATEGORIES:Modul 3 - Gefahrenwahrnehmung
ATTACH;FMTTYPE=image/png:https://www.a-reich.de/wp-content/uploads/2023/03/modul3.png
END:VEVENT
BEGIN:VEVENT
DTSTART;TZID=UTC:20261119T080000
DTEND;TZID=UTC:20261119T153000
DTSTAMP:20260421T081538
CREATED:20260414T121753Z
LAST-MODIFIED:20260414T121753Z
UID:910-1795075200-1795102200@www.a-reich.de
SUMMARY:Modul 4 - Schadensprävention
DESCRIPTION:
URL:https://www.a-reich.de/index.php/kursveranstaltung/modul-4-schadenspraevention-3/
LOCATION:A. Reich GmbH Jüterbog\, Grünaer Weg 10\, Jüterbog\, 14913
CATEGORIES:Modul 4 - Schadensprävention
ATTACH;FMTTYPE=image/png:https://www.a-reich.de/wp-content/uploads/2023/03/modul4.png
END:VEVENT
BEGIN:VEVENT
DTSTART;TZID=UTC:20261120T080000
DTEND;TZID=UTC:20261120T153000
DTSTAMP:20260421T081538
CREATED:20260414T121819Z
LAST-MODIFIED:20260414T121819Z
UID:912-1795161600-1795188600@www.a-reich.de
SUMMARY:Modul 5 - Sicherheit Ladung & Fahrgast
DESCRIPTION:
URL:https://www.a-reich.de/index.php/kursveranstaltung/modul-5-sicherheit-ladung-fahrgast-3/
LOCATION:A. Reich GmbH Jüterbog\, Grünaer Weg 10\, Jüterbog\, 14913
CATEGORIES:Modul 5 - Sicherheit Ladung & Fahrgast
ATTACH;FMTTYPE=image/png:https://www.a-reich.de/wp-content/uploads/2023/03/modul5.png
END:VEVENT
BEGIN:VEVENT
DTSTART;TZID=UTC:20261121T080000
DTEND;TZID=UTC:20261121T153000
DTSTAMP:20260421T081538
CREATED:20260414T121419Z
LAST-MODIFIED:20260414T121419Z
UID:898-1795248000-1795275000@www.a-reich.de
SUMMARY:Modul 3 - Gefahrenwahrnehmung
DESCRIPTION:
URL:https://www.a-reich.de/index.php/kursveranstaltung/modul-3-gefahrenwahrnehmung-2/
LOCATION:A. Reich GmbH Jüterbog\, Grünaer Weg 10\, Jüterbog\, 14913
CATEGORIES:Modul 3 - Gefahrenwahrnehmung
ATTACH;FMTTYPE=image/png:https://www.a-reich.de/wp-content/uploads/2023/03/modul3.png
END:VEVENT
BEGIN:VEVENT
DTSTART;TZID=UTC:20261205T080000
DTEND;TZID=UTC:20261205T153000
DTSTAMP:20260421T081538
CREATED:20260414T121440Z
LAST-MODIFIED:20260414T121440Z
UID:900-1796457600-1796484600@www.a-reich.de
SUMMARY:Modul 4 - Schadensprävention
DESCRIPTION:
URL:https://www.a-reich.de/index.php/kursveranstaltung/modul-4-schadenspraevention-2/
LOCATION:A. Reich GmbH Jüterbog\, Grünaer Weg 10\, Jüterbog\, 14913
CATEGORIES:Modul 4 - Schadensprävention
ATTACH;FMTTYPE=image/png:https://www.a-reich.de/wp-content/uploads/2023/03/modul4.png
END:VEVENT
BEGIN:VEVENT
DTSTART;TZID=UTC:20261212T080000
DTEND;TZID=UTC:20261212T153000
DTSTAMP:20260421T081538
CREATED:20260414T121504Z
LAST-MODIFIED:20260414T121504Z
UID:902-1797062400-1797089400@www.a-reich.de
SUMMARY:Modul 5 - Sicherheit Ladung & Fahrgast
DESCRIPTION:
URL:https://www.a-reich.de/index.php/kursveranstaltung/modul-5-sicherheit-ladung-fahrgast-2/
LOCATION:A. Reich GmbH Jüterbog\, Grünaer Weg 10\, Jüterbog\, 14913
CATEGORIES:Modul 5 - Sicherheit Ladung & Fahrgast
ATTACH;FMTTYPE=image/png:https://www.a-reich.de/wp-content/uploads/2023/03/modul5.png
END:VEVENT
END:VCALENDAR